BEGIN:VCALENDAR
VERSION:2.0
PRODID:-//https://bunkerhilltx.gov///NONSGML kigkonsult.se iCalcreator 2.10.15//
METHOD:PUBLISH
BEGIN:VEVENT
UID:20260420T020026UTC-72467567m4@https://bunkerhilltx.gov/
DTSTAMP:20260420T020026Z
DESCRIPTION:Twinkle Light Parade Thursday\, December 16\, 2021 – 6:00 p.m.
 \n&nbsp\;\nClick here to see the Parade Route!!\n&nbsp\;\nPlease see notic
 e of possible City Council Quorum\n\nWe hope to see you at the parade!\n&n
 bsp\;\nHo! Ho! Ho!!\n https://bunkerhilltx.gov/event/1787-twinkle-light-pa
 rade
DTSTART:20211217T000000Z
DTEND:20211217T020000Z
LOCATION:City of Bunker Hill Village ()
SUMMARY:Twinkle Light Parade
URL:https://bunkerhilltx.gov/event/1787-twinkle-light-parade
END:VEVENT
END:VCALENDAR
