BEGIN:VCALENDAR
VERSION:2.0
PRODID:-//https://bunkerhilltx.gov///NONSGML kigkonsult.se iCalcreator 2.10.15//
METHOD:PUBLISH
BEGIN:VEVENT
UID:20260423T114336UTC-5940FfxN12@https://bunkerhilltx.gov/
DTSTAMP:20260423T114336Z
DESCRIPTION:We will be open for both Christmas Eve and New Years Eve at the
  regular days and times.\n________________________________________________
 _____________________\nPlease join us at the Memorial Villages Farmers Mar
 ket each Saturday.\nThe market is held from 9 am - 1 pm. \nWe look forward
  to seeing you there!\nPlease click here to go to the Memorial Villages Fa
 rmers Market Website for more details. https://bunkerhilltx.gov/event/1603
 -villages-farmers-market
DTSTART;VALUE=DATE:20221231
LOCATION:First Congregational Church--Houston  (10840 Beinhorn Rd\, Houston
 \, TX 77024\, USA)
SUMMARY:Villages Farmers Market
URL:https://bunkerhilltx.gov/event/1603-villages-farmers-market
END:VEVENT
END:VCALENDAR
