BEGIN:VCALENDAR
VERSION:2.0
PRODID:-//https://bunkerhilltx.gov///NONSGML kigkonsult.se iCalcreator 2.10.15//
METHOD:PUBLISH
BEGIN:VEVENT
UID:20260420T083422UTC-0408VgnUjl@https://bunkerhilltx.gov/
DTSTAMP:20260420T083422Z
DESCRIPTION:Court dockets are posted 48 hours prior to court date and are s
 ubject to change without notice.\nView the Docket&nbsp\; - Click on this l
 ink to Download\nArraignments and Trials begin promptly at the time indica
 ted on the citation. The presiding judge will address the court and give i
 nstructions. Please be sure to turn off all beepers and telephones before 
 entering the courtroom. Weapons on any kind are not allowed in the buildin
 g that houses the courtroom.\nPersons who have been charged\, may enter th
 eir plea on the charge in one of three ways:\n\nGuilty&nbsp\;(pay the fine
  and costs)\nNot Guilty&nbsp\;(You are requesting a trial. You must see th
 e prosecutor before leaving the building to get a trial date and time.)\nN
 olo Contendre&nbsp\;(no contest) You have opted to not contest the charge 
 and the punishment is at the discretion of the court\n\nPersons charged wi
 th an expired driver's license\, expired motor vehicle inspection or expir
 ed motor vehicle registration\, that has not been expired more than sixty 
 days and corrected it within twenty working days of the date of the citati
 on or date of your first appearance which ever comes first and have proof 
 that it has been corrected\, may present proof prior to your court date at
  the clerks office or appear in court to see the judge for consideration u
 nder the law for dismissal and if dismissed a $20.00 administrative fee wi
 ll be paid to the court clerk. If you have been charged with failure to pr
 ovide proof of financial responsibility and you did have insurance on the 
 day you received the citation\, show the proof to the court. If it is corr
 ect\, that case will be dismissed. There is no administrative fee for fina
 ncial responsibility.\nNote: Only the judge can dismiss tickets. If you ha
 ve a ticket that you might want to try to get dismissed\, you have to show
  it to the judge on your arraignment night.\nPlease see&nbsp\;Municipal Co
 urt information here\, or&nbsp\;search online here\nMunicipal Court is hel
 d every 2nd Monday of each month at 4:30 p.m. https://bunkerhilltx.gov/eve
 nt/149-municipal-court
DTSTART:20161114T223000Z
DTEND:20161115T000000Z
LOCATION:City of Bunker Hill Village City Hall (11977 Memorial Drive\, Hous
 ton\, TX 77024\, USA)
SUMMARY:Municipal Court
URL:https://bunkerhilltx.gov/event/149-municipal-court
END:VEVENT
END:VCALENDAR
