BEGIN:VCALENDAR
VERSION:2.0
PRODID:-//https://bunkerhilltx.gov///NONSGML kigkonsult.se iCalcreator 2.10.15//
METHOD:PUBLISH
BEGIN:VEVENT
UID:20260421T135746UTC-7782arUmgP@https://bunkerhilltx.gov/
DTSTAMP:20260421T135746Z
DESCRIPTION:View the Docket&nbsp\; - Click on the link to Download\nArraign
 ments and Trials begin promptly at the time indicated on the citation. The
  presiding judge will address the court and give instructions. Please be s
 ure to turn off all beepers and telephones before entering the courtroom. 
 Weapons on any kind are not allowed in the building that houses the courtr
 oom.\nPersons who have been charged\, may enter their plea on the charge i
 n one of three ways:\n\nGuilty&nbsp\;(pay the fine and costs)\nNot Guilty&
 nbsp\;(You are requesting a trial. You must see the prosecutor before leav
 ing the building to get a trial date and time.)\nNolo Contendre&nbsp\;(no 
 contest) You have opted to not contest the charge and the punishment is at
  the discretion of the court\n\nPersons charged with an expired driver's l
 icense\, expired motor vehicle inspection or expired motor vehicle registr
 ation\, that has not been expired more than sixty days and corrected it wi
 thin twenty working days of the date of the citation or date of your first
  appearance which ever comes first and have proof that it has been correct
 ed\, may present proof prior to your court date at the clerks office or ap
 pear in court to see the judge for consideration under the law for dismiss
 al and if dismissed a $20.00 administrative fee will be paid to the court 
 clerk. If you have been charged with failure to provide proof of financial
  responsibility and you did have insurance on the day you received the cit
 ation\, show the proof to the court. If it is correct\, that case will be 
 dismissed. There is no administrative fee for financial responsibility.\nN
 ote: Only the judge can dismiss tickets. If you have a ticket that you mig
 ht want to try to get dismissed\, you have to show it to the judge on your
  arraignment night.\nPlease see&nbsp\;Municipal Court information here\, o
 r&nbsp\;search online here\nMunicipal Court is held every 2nd Monday of ea
 ch month at 4:30 p.m. https://bunkerhilltx.gov/event/148-municipal-court
DTSTART:20161010T213000Z
DTEND:20161010T230000Z
LOCATION:City of Bunker Hill Village City Hall (11977 Memorial Drive\, Hous
 ton\, TX 77024\, USA)
SUMMARY:Municipal Court
URL:https://bunkerhilltx.gov/event/148-municipal-court
END:VEVENT
END:VCALENDAR
