BEGIN:VCALENDAR
VERSION:2.0
PRODID:-//https://bunkerhilltx.gov///NONSGML kigkonsult.se iCalcreator 2.10.15//
METHOD:PUBLISH
BEGIN:VEVENT
UID:20260420T083450UTC-6339VUR81p@https://bunkerhilltx.gov/
DTSTAMP:20260420T083450Z
DESCRIPTION:&nbsp\;\nCourt dockets are posted 48 hours prior to court date 
 and are subject to change without notice.\nClick on the link to Download -
 - View the Docket\nArraignments and Trials begin promptly at the time indi
 cated on the citation. The presiding judge will address the court and give
  instructions. Please be sure to turn off all beepers and telephones befor
 e entering the courtroom. Weapons on any kind are not allowed in the build
 ing that houses the courtroom.\nPersons who have been charged\, may enter 
 their plea on the charge in one of three ways:\n\nGuilty&nbsp\;(pay the fi
 ne and costs)\nNot Guilty&nbsp\;(You are requesting a trial. You must see 
 the prosecutor before leaving the building to get a trial date and time.)
 \nNolo Contendre&nbsp\;(no contest) You have opted to not contest the char
 ge and the punishment is at the discretion of the court\n\nPersons charged
  with an expired driver's license\, expired motor vehicle inspection or ex
 pired motor vehicle registration\, that has not been expired more than six
 ty days and corrected it within twenty working days of the date of the cit
 ation or date of your first appearance which ever comes first and have pro
 of that it has been corrected\, may present proof prior to your court date
  at the clerks office or appear in court to see the judge for consideratio
 n under the law for dismissal and if dismissed a $20.00 administrative fee
  will be paid to the court clerk. If you have been charged with failure to
  provide proof of financial responsibility and you did have insurance on t
 he day you received the citation\, show the proof to the court. If it is c
 orrect\, that case will be dismissed. There is no administrative fee for f
 inancial responsibility.\nNote: Only the judge can dismiss tickets. If you
  have a ticket that you might want to try to get dismissed\, you have to s
 how it to the judge on your arraignment night.\nPlease see&nbsp\;Municipal
  Court information here\, or&nbsp\;search online here\nMunicipal Court is 
 held every 2nd Monday of each month at 4:30 p.m. https://bunkerhilltx.gov/
 event/145-municipal-court
DTSTART:20160711T213000Z
DTEND:20160711T230000Z
LOCATION:City of Bunker Hill Village City Hall (11977 Memorial Drive\, Hous
 ton\, TX 77024\, USA)
SUMMARY:Municipal Court
URL:https://bunkerhilltx.gov/event/145-municipal-court
END:VEVENT
END:VCALENDAR
