BEGIN:VCALENDAR
VERSION:2.0
PRODID:-//https://bunkerhilltx.gov///NONSGML kigkonsult.se iCalcreator 2.10.15//
METHOD:PUBLISH
BEGIN:VEVENT
UID:20260420T150713UTC-8780KuUzvP@https://bunkerhilltx.gov/
DTSTAMP:20260420T150713Z
DESCRIPTION:Court dockets are posted 48 hours prior to court date and are s
 ubject to change without notice.\nDOCKET FOR&nbsp\;October 14\, 2019&nbsp\
 ;\nArraignments and Trials begin promptly at the time indicated on the cit
 ation. The presiding judge will address the court and give instructions. P
 lease be sure to turn off all beepers and telephones before entering the c
 ourtroom. Weapons on any kind are not allowed in the building that houses 
 the courtroom.\nPersons who have been charged\, may enter their plea on th
 e charge in one of three ways:\n\nGuilty&nbsp\;(pay the fine and costs)\nN
 ot Guilty&nbsp\;(You are requesting a trial. You must see the prosecutor b
 efore leaving the building to get a trial date and time.)\nNolo Contendre&
 nbsp\;(no contest) You have opted to not contest the charge and the punish
 ment is at the discretion of the court\n\nPersons charged with an expired 
 driver's license\, expired motor vehicle inspection or expired motor vehic
 le registration\, that has not been expired more than sixty days and corre
 cted it within twenty working days of the date of the citation or date of 
 your first appearance which ever comes first and have proof that it has be
 en corrected\, may present proof prior to your court date at the clerks of
 fice or appear in court to see the judge for consideration under the law f
 or dismissal and if dismissed a $20.00 administrative fee will be paid to 
 the court clerk. If you have been charged with failure to provide proof of
  financial responsibility and you did have insurance on the day you receiv
 ed the citation\, show the proof to the court. If it is correct\, that cas
 e will be dismissed. There is no administrative fee for financial responsi
 bility.\nNote: Only the judge can dismiss tickets. If you have a ticket th
 at you might want to try to get dismissed\, you have to show it to the jud
 ge on your arraignment night.\nPlease see&nbsp\;Municipal Court informatio
 n here\, or&nbsp\;search online here\nMunicipal Court is typically held on
  Mondays. Please check your ticket for the date and time.\n&nbsp\; https:/
 /bunkerhilltx.gov/event/1132-municipal-court
DTSTART:20191014T190000Z
DTEND:20191014T220000Z
LOCATION:City of Bunker Hill Village City Hall (11977 Memorial Drive\, Hous
 ton\, TX 77024\, USA)
SUMMARY:Municipal Court
URL:https://bunkerhilltx.gov/event/1132-municipal-court
END:VEVENT
END:VCALENDAR
