BEGIN:VCALENDAR
VERSION:2.0
PRODID:-//https://bunkerhilltx.gov///NONSGML kigkonsult.se iCalcreator 2.10.15//
METHOD:PUBLISH
BEGIN:VEVENT
UID:20260420T151626UTC-2717TibGFI@https://bunkerhilltx.gov/
DTSTAMP:20260420T151626Z
DESCRIPTION:Court dockets are posted 48 hours prior to court date and are s
 ubject to change without notice.\nView the Docket for September 9\, 2019 -
 &nbsp\;Click on this link to Download\nArraignments and Trials begin promp
 tly at the time indicated on the citation. The presiding judge will addres
 s the court and give instructions. Please be sure to turn off all beepers 
 and telephones before entering the courtroom. Weapons on any kind are not 
 allowed in the building that houses the courtroom.\nPersons who have been 
 charged\, may enter their plea on the charge in one of three ways:\n\nGuil
 ty&nbsp\;(pay the fine and costs)\nNot Guilty&nbsp\;(You are requesting a 
 trial. You must see the prosecutor before leaving the building to get a tr
 ial date and time.)\nNolo Contendre&nbsp\;(no contest) You have opted to n
 ot contest the charge and the punishment is at the discretion of the court
 \n\nPersons charged with an expired driver's license\, expired motor vehic
 le inspection or expired motor vehicle registration\, that has not been ex
 pired more than sixty days and corrected it within twenty working days of 
 the date of the citation or date of your first appearance which ever comes
  first and have proof that it has been corrected\, may present proof prior
  to your court date at the clerks office or appear in court to see the jud
 ge for consideration under the law for dismissal and if dismissed a $20.00
  administrative fee will be paid to the court clerk. If you have been char
 ged with failure to provide proof of financial responsibility and you did 
 have insurance on the day you received the citation\, show the proof to th
 e court. If it is correct\, that case will be dismissed. There is no admin
 istrative fee for financial responsibility.\nNote: Only the judge can dism
 iss tickets. If you have a ticket that you might want to try to get dismis
 sed\, you have to show it to the judge on your arraignment night.\nPlease 
 see&nbsp\;Municipal Court information here\, or&nbsp\;search online here\n
 Municipal Court is typically held on Mondays. Please check your ticket for
  the date and time.\n&nbsp\; https://bunkerhilltx.gov/event/1131-municipal
 -court
DTSTART:20190909T190000Z
DTEND:20190909T220000Z
LOCATION:City of Bunker Hill Village City Hall (11977 Memorial Drive\, Hous
 ton\, TX 77024\, USA)
SUMMARY:Municipal Court
URL:https://bunkerhilltx.gov/event/1131-municipal-court
END:VEVENT
END:VCALENDAR
