BEGIN:VCALENDAR
VERSION:2.0
PRODID:-//https://bunkerhilltx.gov///NONSGML kigkonsult.se iCalcreator 2.10.15//
METHOD:PUBLISH
BEGIN:VEVENT
UID:20260420T150716UTC-6266RDx4NU@https://bunkerhilltx.gov/
DTSTAMP:20260420T150716Z
DESCRIPTION:Court dockets are posted 48 hours prior to court date and are s
 ubject to change without notice.\nView the Docket for July 8\, 2019 -&nbsp
 \;Click on this link to Download&nbsp\;\nArraignments and Trials begin pro
 mptly at the time indicated on the citation. The presiding judge will addr
 ess the court and give instructions. Please be sure to turn off all beeper
 s and telephones before entering the courtroom. Weapons on any kind are no
 t allowed in the building that houses the courtroom.\nPersons who have bee
 n charged\, may enter their plea on the charge in one of three ways:\n\nGu
 ilty&nbsp\;(pay the fine and costs)\nNot Guilty&nbsp\;(You are requesting 
 a trial. You must see the prosecutor before leaving the building to get a 
 trial date and time.)\nNolo Contendre&nbsp\;(no contest) You have opted to
  not contest the charge and the punishment is at the discretion of the cou
 rt\n\nPersons charged with an expired driver's license\, expired motor veh
 icle inspection or expired motor vehicle registration\, that has not been 
 expired more than sixty days and corrected it within twenty working days o
 f the date of the citation or date of your first appearance which ever com
 es first and have proof that it has been corrected\, may present proof pri
 or to your court date at the clerks office or appear in court to see the j
 udge for consideration under the law for dismissal and if dismissed a $20.
 00 administrative fee will be paid to the court clerk. If you have been ch
 arged with failure to provide proof of financial responsibility and you di
 d have insurance on the day you received the citation\, show the proof to 
 the court. If it is correct\, that case will be dismissed. There is no adm
 inistrative fee for financial responsibility.\nNote: Only the judge can di
 smiss tickets. If you have a ticket that you might want to try to get dism
 issed\, you have to show it to the judge on your arraignment night.\nPleas
 e see&nbsp\;Municipal Court information here\, or&nbsp\;search online here
 \nMunicipal Court is typically held on Mondays. Please check your ticket f
 or the date and time.\n&nbsp\; https://bunkerhilltx.gov/event/1129-municip
 al-court
DTSTART:20190708T190000Z
DTEND:20190708T220000Z
LOCATION:City of Bunker Hill Village City Hall (11977 Memorial Drive\, Hous
 ton\, TX 77024\, USA)
SUMMARY:Municipal Court
URL:https://bunkerhilltx.gov/event/1129-municipal-court
END:VEVENT
END:VCALENDAR
