BEGIN:VCALENDAR
VERSION:2.0
PRODID:-//https://bunkerhilltx.gov///NONSGML kigkonsult.se iCalcreator 2.10.15//
METHOD:PUBLISH
BEGIN:VEVENT
UID:20260420T150757UTC-7033HFstf8@https://bunkerhilltx.gov/
DTSTAMP:20260420T150757Z
DESCRIPTION:Court dockets are posted 48 hours prior to court date and are s
 ubject to change without notice.\nView the Docket for April 8\, 2018-&nbsp
 \;Click on this link to Download\nArraignments and Trials begin promptly a
 t the time indicated on the citation. The presiding judge will address the
  court and give instructions. Please be sure to turn off all beepers and t
 elephones before entering the courtroom. Weapons on any kind are not allow
 ed in the building that houses the courtroom.\nPersons who have been charg
 ed\, may enter their plea on the charge in one of three ways:\n\nGuilty&nb
 sp\;(pay the fine and costs)\nNot Guilty&nbsp\;(You are requesting a trial
 . You must see the prosecutor before leaving the building to get a trial d
 ate and time.)\nNolo Contendre&nbsp\;(no contest) You have opted to not co
 ntest the charge and the punishment is at the discretion of the court\n\nP
 ersons charged with an expired driver's license\, expired motor vehicle in
 spection or expired motor vehicle registration\, that has not been expired
  more than sixty days and corrected it within twenty working days of the d
 ate of the citation or date of your first appearance which ever comes firs
 t and have proof that it has been corrected\, may present proof prior to y
 our court date at the clerks office or appear in court to see the judge fo
 r consideration under the law for dismissal and if dismissed a $20.00 admi
 nistrative fee will be paid to the court clerk. If you have been charged w
 ith failure to provide proof of financial responsibility and you did have 
 insurance on the day you received the citation\, show the proof to the cou
 rt. If it is correct\, that case will be dismissed. There is no administra
 tive fee for financial responsibility.\nNote: Only the judge can dismiss t
 ickets. If you have a ticket that you might want to try to get dismissed\,
  you have to show it to the judge on your arraignment night.\nPlease see&n
 bsp\;Municipal Court information here\, or&nbsp\;search online here\nMunic
 ipal Court is typically held on Mondays. Please check your ticket for the 
 date and time.\n&nbsp\; https://bunkerhilltx.gov/event/1126-municipal-cour
 t
DTSTART:20190408T190000Z
DTEND:20190408T220000Z
LOCATION:City of Bunker Hill Village City Hall (11977 Memorial Drive\, Hous
 ton\, TX 77024\, USA)
SUMMARY:Municipal Court
URL:https://bunkerhilltx.gov/event/1126-municipal-court
END:VEVENT
END:VCALENDAR
