BEGIN:VCALENDAR
VERSION:2.0
PRODID:-//https://bunkerhilltx.gov///NONSGML kigkonsult.se iCalcreator 2.10.15//
METHOD:PUBLISH
BEGIN:VEVENT
UID:20260420T164502UTC-2239e7Clr3@https://bunkerhilltx.gov/
DTSTAMP:20260420T164502Z
DESCRIPTION:Court dockets are posted 48 hours prior to court date and are s
 ubject to change without notice.\nView the Docket for March 18\, 2019-&nbs
 p\;Click on this link to DownloadClick on this link to Download\nArraignme
 nts and Trials begin promptly at the time indicated on the citation. The p
 residing judge will address the court and give instructions. Please be sur
 e to turn off all beepers and telephones before entering the courtroom. We
 apons on any kind are not allowed in the building that houses the courtroo
 m.\nPersons who have been charged\, may enter their plea on the charge in 
 one of three ways:\n\nGuilty&nbsp\;(pay the fine and costs)\nNot Guilty&nb
 sp\;(You are requesting a trial. You must see the prosecutor before leavin
 g the building to get a trial date and time.)\nNolo Contendre&nbsp\;(no co
 ntest) You have opted to not contest the charge and the punishment is at t
 he discretion of the court\n\nPersons charged with an expired driver's lic
 ense\, expired motor vehicle inspection or expired motor vehicle registrat
 ion\, that has not been expired more than sixty days and corrected it with
 in twenty working days of the date of the citation or date of your first a
 ppearance which ever comes first and have proof that it has been corrected
 \, may present proof prior to your court date at the clerks office or appe
 ar in court to see the judge for consideration under the law for dismissal
  and if dismissed a $20.00 administrative fee will be paid to the court cl
 erk. If you have been charged with failure to provide proof of financial r
 esponsibility and you did have insurance on the day you received the citat
 ion\, show the proof to the court. If it is correct\, that case will be di
 smissed. There is no administrative fee for financial responsibility.\nNot
 e: Only the judge can dismiss tickets. If you have a ticket that you might
  want to try to get dismissed\, you have to show it to the judge on your a
 rraignment night.\nPlease see&nbsp\;Municipal Court information here\, or&
 nbsp\;search online here\nMunicipal Court is typically held on Mondays. Pl
 ease check your ticket for the date and time.\n&nbsp\; https://bunkerhillt
 x.gov/event/1125-municipal-court
DTSTART:20190318T190000Z
DTEND:20190318T220000Z
LOCATION:City of Bunker Hill Village City Hall (11977 Memorial Drive\, Hous
 ton\, TX 77024\, USA)
SUMMARY:Municipal Court
URL:https://bunkerhilltx.gov/event/1125-municipal-court
END:VEVENT
END:VCALENDAR
