BEGIN:VCALENDAR
VERSION:2.0
PRODID:-//https://bunkerhilltx.gov///NONSGML kigkonsult.se iCalcreator 2.10.15//
METHOD:PUBLISH
BEGIN:VEVENT
UID:20260420T151421UTC-8616u87u9D@https://bunkerhilltx.gov/
DTSTAMP:20260420T151421Z
DESCRIPTION:Court dockets are posted 48 hours prior to court date and are s
 ubject to change without notice.\nView the Docket for February 11\, 2019 -
  Click on this link to Download&nbsp\;\nArraignments and Trials begin prom
 ptly at the time indicated on the citation. The presiding judge will addre
 ss the court and give instructions. Please be sure to turn off all beepers
  and telephones before entering the courtroom. Weapons on any kind are not
  allowed in the building that houses the courtroom.\nPersons who have been
  charged\, may enter their plea on the charge in one of three ways:\n\nGui
 lty&nbsp\;(pay the fine and costs)\nNot Guilty&nbsp\;(You are requesting a
  trial. You must see the prosecutor before leaving the building to get a t
 rial date and time.)\nNolo Contendre&nbsp\;(no contest) You have opted to 
 not contest the charge and the punishment is at the discretion of the cour
 t\n\nPersons charged with an expired driver's license\, expired motor vehi
 cle inspection or expired motor vehicle registration\, that has not been e
 xpired more than sixty days and corrected it within twenty working days of
  the date of the citation or date of your first appearance which ever come
 s first and have proof that it has been corrected\, may present proof prio
 r to your court date at the clerks office or appear in court to see the ju
 dge for consideration under the law for dismissal and if dismissed a $20.0
 0 administrative fee will be paid to the court clerk. If you have been cha
 rged with failure to provide proof of financial responsibility and you did
  have insurance on the day you received the citation\, show the proof to t
 he court. If it is correct\, that case will be dismissed. There is no admi
 nistrative fee for financial responsibility.\nNote: Only the judge can dis
 miss tickets. If you have a ticket that you might want to try to get dismi
 ssed\, you have to show it to the judge on your arraignment night.\nPlease
  see&nbsp\;Municipal Court information here\, or&nbsp\;search online here
 \nMunicipal Court is typically held on Mondays. Please check your ticket f
 or the date and time.\n&nbsp\; https://bunkerhilltx.gov/event/1124-municip
 al-court
DTSTART:20190211T200000Z
DTEND:20190211T230000Z
LOCATION:City of Bunker Hill Village City Hall (11977 Memorial Drive\, Hous
 ton\, TX 77024\, USA)
SUMMARY:Municipal Court
URL:https://bunkerhilltx.gov/event/1124-municipal-court
END:VEVENT
END:VCALENDAR
