BEGIN:VCALENDAR
VERSION:2.0
PRODID:-//https://bunkerhilltx.gov///NONSGML kigkonsult.se iCalcreator 2.10.15//
METHOD:PUBLISH
BEGIN:VEVENT
UID:20260420T163943UTC-6087u3MTiZ@https://bunkerhilltx.gov/
DTSTAMP:20260420T163943Z
DESCRIPTION:Court dockets are posted 48 hours prior to court date and are s
 ubject to change without notice.\nView the Docket for January 15\, 2018-&n
 bsp\;Click on this link to Download\nArraignments and Trials begin promptl
 y at the time indicated on the citation. The presiding judge will address 
 the court and give instructions. Please be sure to turn off all beepers an
 d telephones before entering the courtroom. Weapons on any kind are not al
 lowed in the building that houses the courtroom.\nPersons who have been ch
 arged\, may enter their plea on the charge in one of three ways:\n\nGuilty
 &nbsp\;(pay the fine and costs)\nNot Guilty&nbsp\;(You are requesting a tr
 ial. You must see the prosecutor before leaving the building to get a tria
 l date and time.)\nNolo Contendre&nbsp\;(no contest) You have opted to not
  contest the charge and the punishment is at the discretion of the court\n
 \nPersons charged with an expired driver's license\, expired motor vehicle
  inspection or expired motor vehicle registration\, that has not been expi
 red more than sixty days and corrected it within twenty working days of th
 e date of the citation or date of your first appearance which ever comes f
 irst and have proof that it has been corrected\, may present proof prior t
 o your court date at the clerks office or appear in court to see the judge
  for consideration under the law for dismissal and if dismissed a $20.00 a
 dministrative fee will be paid to the court clerk. If you have been charge
 d with failure to provide proof of financial responsibility and you did ha
 ve insurance on the day you received the citation\, show the proof to the 
 court. If it is correct\, that case will be dismissed. There is no adminis
 trative fee for financial responsibility.\nNote: Only the judge can dismis
 s tickets. If you have a ticket that you might want to try to get dismisse
 d\, you have to show it to the judge on your arraignment night.\nPlease se
 e&nbsp\;Municipal Court information here\, or&nbsp\;search online here\nMu
 nicipal Court is typically held on Mondays. Please check your ticket for t
 he date and time.\n&nbsp\; https://bunkerhilltx.gov/event/1121-municipal-c
 ourt
DTSTART:20180312T190000Z
DTEND:20180312T220000Z
LOCATION:City of Bunker Hill Village City Hall (11977 Memorial Drive\, Hous
 ton\, TX 77024\, USA)
SUMMARY:Municipal Court
URL:https://bunkerhilltx.gov/event/1121-municipal-court
END:VEVENT
END:VCALENDAR
