BEGIN:VCALENDAR
VERSION:2.0
PRODID:-//https://bunkerhilltx.gov///NONSGML kigkonsult.se iCalcreator 2.10.15//
METHOD:PUBLISH
BEGIN:VEVENT
UID:20260420T083451UTC-5355vNiMV3@https://bunkerhilltx.gov/
DTSTAMP:20260420T083451Z
DESCRIPTION:Municipal Court is held every 2nd Monday of each month at 4:30 
 p.m.\nPlease see Municipal Court information here\, or search online here 
 https://bunkerhilltx.gov/event/11-municipal-court
DTSTART:20141110T223000Z
DTEND:20141111T000000Z
LOCATION:City of Bunker Hill Village City Hall (11977 Memorial Drive\, Hous
 ton\, TX 77024\, USA)
SUMMARY:Municipal Court
URL:https://bunkerhilltx.gov/event/11-municipal-court
END:VEVENT
END:VCALENDAR
