BEGIN:VCALENDAR
VERSION:2.0
PRODID:-//https://bunkerhilltx.gov///NONSGML kigkonsult.se iCalcreator 2.10.15//
METHOD:PUBLISH
BEGIN:VEVENT
UID:20260419T150026UTC-7308fj5zIv@https://bunkerhilltx.gov/
DTSTAMP:20260419T150026Z
DESCRIPTION:City Hall will be closed&nbsp\;&nbsp\;Thursday and Friday\, Dec
 ember 23 and 24&nbsp\; for the Christmas Holidays.\nFor any emergencies\, 
 you can call the City Hall number at 713-467-9762 and select '9' to be con
 nected to the Memorial Villages Police Department.&nbsp\; They will dispat
 ch our staff.\nHave a nice holiday! https://bunkerhilltx.gov/event/1786-me
 rry-christmas-city-hall-closes-at-noon
DTSTART;VALUE=DATE:20211222
LOCATION:City of Bunker Hill Village City Hall (11977 Memorial Drive\, Hous
 ton\, TX 77024\, USA)
SUMMARY:Happy Holidays!  Normal Recycling Services
URL:https://bunkerhilltx.gov/event/1786-merry-christmas-city-hall-closes-at
 -noon
END:VEVENT
END:VCALENDAR
