BEGIN:VCALENDAR
VERSION:2.0
PRODID:-//https://bunkerhilltx.gov///NONSGML kigkonsult.se iCalcreator 2.10.15//
METHOD:PUBLISH
BEGIN:VEVENT
UID:20260419T163541UTC-62698i8pCi@https://bunkerhilltx.gov/
DTSTAMP:20260419T163541Z
DESCRIPTION:The December City Council Meeting has been cancelled.&nbsp\; Cl
 ick here for notice of cancellation.&nbsp\;&nbsp\;\nThe City Council holds
  its regular meetings on the third Tuesday of every month at 5:30 p.m\, un
 less otherwise noted. The agendas are posted on the website 72 hours prior
  to the meetings. Minutes of the meetings are also posted on the website a
 fter approval by the City Council.\nCity Council Meetings are estimated to
  be approximately 2 hours\; however\, actual time for a specific item and 
 length of the meeting is based on the individual agenda\, public comments\
 , and discussion time needed. https://bunkerhilltx.gov/event/1804-city-cou
 ncil-meeting-meeting-cancelled
DTSTART:20211221T233000Z
DTEND:20211222T013000Z
LOCATION:City of Bunker Hill Village City Hall (11977 Memorial Drive\, Hous
 ton\, TX 77024\, USA)
SUMMARY:City Council Meeting - Meeting Cancelled
URL:https://bunkerhilltx.gov/event/1804-city-council-meeting-meeting-cancel
 led
END:VEVENT
END:VCALENDAR
