BEGIN:VCALENDAR
VERSION:2.0
PRODID:-//https://bunkerhilltx.gov///NONSGML kigkonsult.se iCalcreator 2.10.15//
METHOD:PUBLISH
BEGIN:VEVENT
UID:20260422T111317UTC-6788LVXJoN@https://bunkerhilltx.gov/
DTSTAMP:20260422T111317Z
DESCRIPTION:Court dockets are posted 48 hours prior to court date and are s
 ubject to change without notice.\nAll court appearances are via Zoom until
  further notice.&nbsp\; Please click the link below to schedule your court
  appearance if you have not done so already.&nbsp\; If you do not have a s
 mart device to participate via zoom\, there is a terminal available at Bun
 ker Hill City Hall lobby for your use.&nbsp\; Only one person at a time is
  allowed in the building to use the lobby terminal. If you arrive early\, 
 you may text the Court Administrator at 713-467-9762 for further instructi
 ons.\nLINK TO SCHEDULE COURT APPOINTMENTS AND ZOOM APPEARANCES\nPersons ch
 arged with an expired driver's license\, expired motor vehicle inspection 
 or expired motor vehicle registration\, that has not been expired more tha
 n sixty days and corrected it within twenty working days of the date of th
 e citation or date of your first appearance which ever comes first and hav
 e proof that it has been corrected\, may present proof prior to your court
  date at the clerks office or appear in court to see the judge for conside
 ration under the law for dismissal and if dismissed a $20.00 administrativ
 e fee will be paid to the court clerk. If you have been charged with failu
 re to provide proof of financial responsibility and you did have insurance
  on the day you received the citation\, show the proof to the court. If it
  is correct\, that case will be dismissed. There is no administrative fee 
 for financial responsibility.\n&nbsp\;\nPlease see&nbsp\;Municipal Court i
 nformation here\, or&nbsp\;search online here https://bunkerhilltx.gov/eve
 nt/1836-municipal-court-court-cancelled
DTSTART;VALUE=DATE:20211209
LOCATION:City of Bunker Hill Village City Hall (11977 Memorial Drive\, Hous
 ton\, TX 77024\, USA)
SUMMARY:Municipal Court – Court Cancelled
URL:https://bunkerhilltx.gov/event/1836-municipal-court-court-cancelled
END:VEVENT
BEGIN:VEVENT
UID:20260422T111317UTC-6789Ja3DMZ@https://bunkerhilltx.gov/
DTSTAMP:20260422T111317Z
DESCRIPTION:The Elected Officials have been invited to a Ribbon Cutting for
  the newly reconstructed Fire Station.\n&nbsp\;\nPlease see notice of poss
 ible quorum.&nbsp\;&nbsp\; https://bunkerhilltx.gov/event/1881-village-fir
 e-station-leadership-ribbon-cutting
DTSTART:20211209T210000Z
DTEND:20211209T230000Z
LOCATION:Village Fire Department  (901 Corbindale Rd\, Houston\, TX 77024\,
  USA)
SUMMARY:Village Fire Station - Leadership Ribbon Cutting 
URL:https://bunkerhilltx.gov/event/1881-village-fire-station-leadership-rib
 bon-cutting
END:VEVENT
BEGIN:VEVENT
UID:20260422T111317UTC-6790kD7auC@https://bunkerhilltx.gov/
DTSTAMP:20260422T111317Z
DESCRIPTION:Join Zoom Meeting\nhttps://us02web.zoom.us/j/85051891048?pwd=RG
 pDaTZmeXNHVGhkZkpPbU9IblFwdz09\nMeeting ID: 850 5189 1048\nPasscode: 09391
 0\nOne tap mobile\n+13462487799\,\,85051891048#\,\,\,\,*093910# US (Housto
 n)\n+12532158782\,\,85051891048#\,\,\,\,*093910# US (Tacoma)\nDial by your
  location\n&nbsp\;&nbsp\;&nbsp\;&nbsp\;&nbsp\;&nbsp\;&nbsp\; +1 346 248 77
 99 US (Houston)\n&nbsp\;&nbsp\;&nbsp\;&nbsp\;&nbsp\;&nbsp\;&nbsp\; +1 253 
 215 8782 US (Tacoma)\n&nbsp\;&nbsp\;&nbsp\;&nbsp\;&nbsp\;&nbsp\;&nbsp\; +1
  669 900 6833 US (San Jose)\n&nbsp\;&nbsp\;&nbsp\;&nbsp\;&nbsp\;&nbsp\;&nb
 sp\; +1 929 205 6099 US (New York)\n&nbsp\;&nbsp\;&nbsp\;&nbsp\;&nbsp\;&nb
 sp\;&nbsp\; +1 301 715 8592 US (Washington DC)\n&nbsp\;&nbsp\;&nbsp\;&nbsp
 \;&nbsp\;&nbsp\;&nbsp\; +1 312 626 6799 US (Chicago)\nMeeting ID: 850 5189
  1048\nPasscode: 093910\nFind your local number: https://us02web.zoom.us/u
 /kf3JFMIco\n&nbsp\; https://bunkerhilltx.gov/event/1883-chapel-belle-tamer
 laine-prebid-meeting
DTSTART:20211209T160000Z
DTEND:20211209T170000Z
LOCATION:City of Bunker Hill Village City Hall (11977 Memorial Drive\, Hous
 ton\, TX 77024\, USA)
SUMMARY:Chapel Belle/Tamerlaine Prebid Meeting
URL:https://bunkerhilltx.gov/event/1883-chapel-belle-tamerlaine-prebid-meet
 ing
END:VEVENT
END:VCALENDAR
