BEGIN:VCALENDAR
VERSION:2.0
PRODID:-//https://bunkerhilltx.gov///NONSGML kigkonsult.se iCalcreator 2.10.15//
METHOD:PUBLISH
BEGIN:VEVENT
UID:20260420T195351UTC-8899TcAg4Z@https://bunkerhilltx.gov/
DTSTAMP:20260420T195351Z
DESCRIPTION:Click here to view the agenda for the&nbsp\;City of Bunker Hill
  Village Planning and Zoning Commission Meeting. https://bunkerhilltx.gov/
 event/1429-planning-and-zoning-commission-meeting
DTSTART:20191204T180000Z
DTEND:20191204T200000Z
LOCATION:BUNKER HILL CITY HALL (11977 Memorial Dr\, Houston\, TX 77024\, US
 A)
SUMMARY:PLANNING AND ZONING COMMISSION MEETING
URL:https://bunkerhilltx.gov/event/1429-planning-and-zoning-commission-meet
 ing
END:VEVENT
END:VCALENDAR
