BEGIN:VCALENDAR
VERSION:2.0
PRODID:-//https://bunkerhilltx.gov///NONSGML kigkonsult.se iCalcreator 2.10.15//
METHOD:PUBLISH
BEGIN:VEVENT
UID:20260421T032756UTC-65840rvwCp@https://bunkerhilltx.gov/
DTSTAMP:20260421T032756Z
DESCRIPTION:City Hall will be closed&nbsp\;at noon on Wednesday\, November 
 27\,&nbsp\;2019 and Thursday and Friday\, November 28 and 29&nbsp\; for th
 e Thanksgiving Holiday.\nThe office will re-open on Monday\, December 2 at
  7:30 a.m.\nFor any emergencies\, you can call the City Hall number at 713
 -467-9762 and select '9' to be connected to the Memorial Villages Police D
 epartment.&nbsp\; They will dispatch our staff.\nHave a nice holiday! http
 s://bunkerhilltx.gov/event/1100-city-hall-closed-in-observance-of-the-than
 ksgiving-holiday
DTSTART;VALUE=DATE:20191129
LOCATION:City of Bunker Hill Village City Hall (11977 Memorial Drive\, Hous
 ton\, TX 77024\, USA)
SUMMARY:City Hall Closed in Observance of the Thanksgiving Holiday
URL:https://bunkerhilltx.gov/event/1100-city-hall-closed-in-observance-of-t
 he-thanksgiving-holiday
END:VEVENT
END:VCALENDAR
