BEGIN:VCALENDAR
VERSION:2.0
PRODID:-//https://bunkerhilltx.gov///NONSGML kigkonsult.se iCalcreator 2.10.15//
METHOD:PUBLISH
BEGIN:VEVENT
UID:20260421T063231UTC-41017jlhUW@https://bunkerhilltx.gov/
DTSTAMP:20260421T063231Z
DESCRIPTION:The&nbsp\; Village Fire Commission typically meets&nbsp\;on the
  fourth Wednesday&nbsp\;of each month at the Fire Station starting at 6:00
  pm.&nbsp\; Meeting Agendas are posted 72 hours in advance of the meeting.
 &nbsp\; Please check the&nbsp\;Village Fire&nbsp\;Department website at&nb
 sp\;http://villagefire.org/&nbsp\;&nbsp\;to confirm meeting date\, time an
 d to access the agenda. https://bunkerhilltx.gov/event/463-village-fire-co
 mmission-meeting
DTSTART:20191128T000000Z
DTEND:20191128T020000Z
LOCATION:Village Fire Department  (901 Corbindale Road\, Houston\, TX 77024
 \, USA)
SUMMARY:Village Fire Commission Meeting
URL:https://bunkerhilltx.gov/event/463-village-fire-commission-meeting
END:VEVENT
BEGIN:VEVENT
UID:20260421T063231UTC-4102jV4ovH@https://bunkerhilltx.gov/
DTSTAMP:20260421T063231Z
DESCRIPTION:City Hall will be closed&nbsp\;at noon on Wednesday\, November 
 27\,&nbsp\;2019 and Thursday and Friday\, November 28 and 29&nbsp\; for th
 e Thanksgiving Holiday.\nThe office will re-open on Monday\, December 2 at
  7:30 a.m.\nFor any emergencies\, you can call the City Hall number at 713
 -467-9762 and select '9' to be connected to the Memorial Villages Police D
 epartment.&nbsp\; They will dispatch our staff.\nHave a nice holiday! http
 s://bunkerhilltx.gov/event/1101-happy-thanksgiving-city-hall-closes-at-noo
 n
DTSTART;VALUE=DATE:20191127
LOCATION:City of Bunker Hill Village City Hall (11977 Memorial Drive\, Hous
 ton\, TX 77024\, USA)
SUMMARY:Happy Thanksgiving!   City Hall Closes at Noon 
URL:https://bunkerhilltx.gov/event/1101-happy-thanksgiving-city-hall-closes
 -at-noon
END:VEVENT
END:VCALENDAR
