BEGIN:VCALENDAR
VERSION:2.0
PRODID:-//https://bunkerhilltx.gov///NONSGML kigkonsult.se iCalcreator 2.10.15//
METHOD:PUBLISH
BEGIN:VEVENT
UID:20260423T061558UTC-4957VGdXIV@https://bunkerhilltx.gov/
DTSTAMP:20260423T061558Z
DESCRIPTION:City Hall will be closed&nbsp\;at noon on Wednesday\, November 
 24\,&nbsp\;2021 and Thursday and Friday\, November 25 and 26&nbsp\; for th
 e Thanksgiving Holiday.\nThe office will re-open on Monday\, November 29\,
  2021 at 7:00 a.m.\nFor any emergencies\, you can call the City Hall numbe
 r at 713-467-9762 and select '9' to be connected to the Memorial Villages 
 Police Department.&nbsp\; They will dispatch our staff.\nHave a nice holid
 ay! https://bunkerhilltx.gov/event/1782-city-hall-closed-in-observance-of-
 the-thanksgiving-holiday
DTSTART;VALUE=DATE:20211126
LOCATION:City of Bunker Hill Village City Hall (11977 Memorial Drive\, Hous
 ton\, TX 77024\, USA)
SUMMARY:City Hall Closed in Observance of the Thanksgiving Holiday
URL:https://bunkerhilltx.gov/event/1782-city-hall-closed-in-observance-of-t
 he-thanksgiving-holiday
END:VEVENT
END:VCALENDAR
