BEGIN:VCALENDAR
VERSION:2.0
PRODID:-//https://bunkerhilltx.gov///NONSGML kigkonsult.se iCalcreator 2.10.15//
METHOD:PUBLISH
BEGIN:VEVENT
UID:20260423T075359UTC-3497ANnU6B@https://bunkerhilltx.gov/
DTSTAMP:20260423T075359Z
DESCRIPTION:City Hall will be closed&nbsp\;at noon on Wednesday\, November 
 24\,&nbsp\;2021 and Thursday and Friday\, November 25 and 26&nbsp\; for th
 e Thanksgiving Holiday.\nThe office will re-open on Monday\, November 29\,
  2021 at 7:00 a.m.\nFor any emergencies\, you can call the City Hall numbe
 r at 713-467-9762 and select '9' to be connected to the Memorial Villages 
 Police Department.&nbsp\; They will dispatch our staff.\nThere are no tras
 h services on Thanksgiving Day - Thursday's Trash will be collected on Mon
 day with the normal route.\nHave a nice holiday! https://bunkerhilltx.gov/
 event/1783-happy-thanksgiving-day-city-hall-closed
DTSTART;VALUE=DATE:20211125
LOCATION:City of Bunker Hill Village City Hall (11977 Memorial Drive\, Hous
 ton\, TX 77024\, USA)
SUMMARY:Happy Thanksgiving Day!  City Hall Closed\; No Trash Services on Th
 ursday
URL:https://bunkerhilltx.gov/event/1783-happy-thanksgiving-day-city-hall-cl
 osed
END:VEVENT
END:VCALENDAR
