BEGIN:VCALENDAR
VERSION:2.0
PRODID:-//https://bunkerhilltx.gov///NONSGML kigkonsult.se iCalcreator 2.10.15//
METHOD:PUBLISH
BEGIN:VEVENT
UID:20260423T154805UTC-4460L0nK9i@https://bunkerhilltx.gov/
DTSTAMP:20260423T154805Z
DESCRIPTION:The&nbsp\; Village Fire Commission typically meets&nbsp\;on the
  fourth Wednesday&nbsp\;of each month at the Fire Station starting at 6:00
  pm.&nbsp\; Meeting Agendas are posted 72 hours in advance of the meeting.
 &nbsp\; Please check the&nbsp\;Village Fire&nbsp\;Department website at&nb
 sp\;http://villagefire.org/&nbsp\;&nbsp\;to confirm meeting date\, time an
 d to access the agenda.\n&nbsp\;\nMeeting rescheduled to accomodate the Th
 anksgiving Holidays.\n&nbsp\; https://bunkerhilltx.gov/event/1430-village-
 fire-commission-meeting-meeting-rescheduled-to-november-20-2019
DTSTART:20191121T000000Z
DTEND:20191121T020000Z
LOCATION:Village Fire Department  (901 Corbindale Road\, Houston\, TX 77024
 \, USA)
SUMMARY: Village Fire Commission Meeting - Meeting Rescheduled to November 
 20\, 2019
URL:https://bunkerhilltx.gov/event/1430-village-fire-commission-meeting-mee
 ting-rescheduled-to-november-20-2019
END:VEVENT
END:VCALENDAR
