BEGIN:VCALENDAR
VERSION:2.0
PRODID:-//https://bunkerhilltx.gov///NONSGML kigkonsult.se iCalcreator 2.10.15//
METHOD:PUBLISH
BEGIN:VEVENT
UID:20260423T175410UTC-9442fBxGsd@https://bunkerhilltx.gov/
DTSTAMP:20260423T175410Z
DESCRIPTION:Court dockets are posted 48 hours prior to court date and are s
 ubject to change without notice.\nAll court appearances are via Zoom until
  further notice.&nbsp\; Please click the link below to schedule your court
  appearance if you have not done so already.&nbsp\; If you do not have a s
 mart device to participate via zoom\, there is a terminal available at Bun
 ker Hill City Hall lobby for your use.&nbsp\; Only one person at a time is
  allowed in the building to use the lobby terminal. If you arrive early\, 
 you may text the Court Administrator at 713-467-9762 for further instructi
 ons.\nLINK TO SCHEDULE COURT APPOINTMENTS AND ZOOM APPEARANCES\nPersons ch
 arged with an expired driver's license\, expired motor vehicle inspection 
 or expired motor vehicle registration\, that has not been expired more tha
 n sixty days and corrected it within twenty working days of the date of th
 e citation or date of your first appearance which ever comes first and hav
 e proof that it has been corrected\, may present proof prior to your court
  date at the clerks office or appear in court to see the judge for conside
 ration under the law for dismissal and if dismissed a $20.00 administrativ
 e fee will be paid to the court clerk. If you have been charged with failu
 re to provide proof of financial responsibility and you did have insurance
  on the day you received the citation\, show the proof to the court. If it
  is correct\, that case will be dismissed. There is no administrative fee 
 for financial responsibility.\n&nbsp\;\nPlease see&nbsp\;Municipal Court i
 nformation here\, or&nbsp\;search online here https://bunkerhilltx.gov/eve
 nt/1829-municipal-court-afternoon-docket
DTSTART:20211118T200000Z
DTEND:20211118T220000Z
LOCATION:City of Bunker Hill Village City Hall (11977 Memorial Drive\, Hous
 ton\, TX 77024\, USA)
SUMMARY:Municipal Court – Afternoon Docket
URL:https://bunkerhilltx.gov/event/1829-municipal-court-afternoon-docket
END:VEVENT
BEGIN:VEVENT
UID:20260423T175410UTC-9443vvXl0c@https://bunkerhilltx.gov/
DTSTAMP:20260423T175410Z
DESCRIPTION:THE PLANNING AND ZONING COMMISSION OF THE CITY OF BUNKER HILL V
 ILLAGE\, TEXAS\, WILL MEET ON THURSDAY\, NOVEMBER 18\, 2021 AT 11:30 A.M. 
 BUNKER HILL VILLAGE CITY HALL COUNCIL CHAMBERS\, 11977 MEMORIAL DRIVE.&nbs
 p\;\nAgenda\nAgenda Packet:\nItem III - Minutes\nItem IV - Paratus Memoria
 l Specific Use Permit Amendment\n\nStaff Report\nProposed Ordinance\nBackg
 round Information\n\n&nbsp\;\nItem V - Memorial Forest Club Specific Use P
 ermit\n\nStaff Report\nProposed Ordinance\nBackground Information\n\nThe p
 ublic will be able to observe and participate in the meeting as follows:\n
 Join Zoom Meeting\nhttps://us06web.zoom.us/j/87541901999?pwd=bjBLS3UwT0kwb
 2V3ZXRGYUJnT0NnQT09\nMeeting ID: 875 4190 1999\nPasscode: 341532\nDial by 
 your location\n+1 346 248 7799 US (Houston) https://bunkerhilltx.gov/event
 /1877-planning-and-zoning-commission-meeting
DTSTART:20211118T173000Z
DTEND:20211118T193000Z
LOCATION:City of Bunker Hill Village ()
SUMMARY:Planning and Zoning Commission Meeting 
URL:https://bunkerhilltx.gov/event/1877-planning-and-zoning-commission-meet
 ing
END:VEVENT
END:VCALENDAR
