BEGIN:VCALENDAR
VERSION:2.0
PRODID:-//https://bunkerhilltx.gov///NONSGML kigkonsult.se iCalcreator 2.10.15//
METHOD:PUBLISH
BEGIN:VEVENT
UID:20260423T205109UTC-0506d2ClXB@https://bunkerhilltx.gov/
DTSTAMP:20260423T205109Z
DESCRIPTION:NOTICE OF MEETING BY TELEPHONE AND VIDEO CONFERENCE:\nIn accord
 ance with Texas Government Code\, Sec. 551.127\, on a regular\, non-emerge
 ncy basis\, Councilmembers may attend and participate in a meeting remotel
 y by video conference.&nbsp\; Should such attendance transpire\, a quorum 
 of the Council will be physically present at the location noted above on t
 his agenda.\nCouncil Agenda&nbsp\;\nPlease note this Meeting will begin at
  5:00 with a Closed Executive Session&nbsp\;\nAgenda Packet:&nbsp\;&nbsp\;
 \nRegular Items IV - XX\nItem XXI- Consent Agenda:\nConsent Items A -&nbsp
 \;R\n&nbsp\;\nThe public will be able to observe and participate in the me
 eting as follows:\nJoin Zoom Meeting\nhttps://us06web.zoom.us/j/8266203875
 5?pwd=d3FuQitFYk8rSnF6bWFRZVNST0czQT09\nMeeting ID: 826 6203 8755\nPasscod
 e: 693310\nDial by your location\n+1 346 248 7799 US (Houston)\nThe public
  will be permitted to offer public comments by video conference as provide
 d by the agenda and as permitted by the presiding officer during the meeti
 ng.&nbsp\; A recording of the meeting will be made\, and will be available
  to the public in accordance with the Open Meetings Act upon written reque
 st.\n \n&nbsp\; https://bunkerhilltx.gov/event/1801-city-council-meeting
DTSTART:20211116T233000Z
DTEND:20211117T013000Z
LOCATION:City of Bunker Hill Village City Hall (11977 Memorial Drive\, Hous
 ton\, TX 77024\, USA)
SUMMARY:City Council Meeting
URL:https://bunkerhilltx.gov/event/1801-city-council-meeting
END:VEVENT
END:VCALENDAR
