BEGIN:VCALENDAR
VERSION:2.0
PRODID:-//https://bunkerhilltx.gov///NONSGML kigkonsult.se iCalcreator 2.10.15//
METHOD:PUBLISH
BEGIN:VEVENT
UID:20260420T061456UTC-5996TUVEFI@https://bunkerhilltx.gov/
DTSTAMP:20260420T061456Z
DESCRIPTION:Court dockets are posted 48 hours prior to court date and are s
 ubject to change without notice.\nAugust Docket\nAll court appearances are
  via Zoom until further notice.&nbsp\; Please click the link below to sche
 dule your court appearance if you have not done so already.&nbsp\; If you 
 do not have a smart device to participate via zoom\, there is a terminal a
 vailable at Bunker Hill City Hall lobby for your use.&nbsp\; Only one pers
 on at a time is allowed in the building to use the lobby terminal. If you 
 arrive early\, you may text the Court Administrator at 713-467-9762 for fu
 rther instructions.\nLINK TO SCHEDULE COURT APPOINTMENTS AND ZOOM APPEARAN
 CES\nPersons charged with an expired driver's license\, expired motor vehi
 cle inspection or expired motor vehicle registration\, that has not been e
 xpired more than sixty days and corrected it within twenty working days of
  the date of the citation or date of your first appearance which ever come
 s first and have proof that it has been corrected\, may present proof prio
 r to your court date at the clerks office or appear in court to see the ju
 dge for consideration under the law for dismissal and if dismissed a $20.0
 0 administrative fee will be paid to the court clerk. If you have been cha
 rged with failure to provide proof of financial responsibility and you did
  have insurance on the day you received the citation\, show the proof to t
 he court. If it is correct\, that case will be dismissed. There is no admi
 nistrative fee for financial responsibility.\n&nbsp\;\nPlease see&nbsp\;Mu
 nicipal Court information here\, or&nbsp\;search online here https://bunke
 rhilltx.gov/event/1826-municipal-court-afternoon-docket
DTSTART:20210826T190000Z
DTEND:20210826T210000Z
LOCATION:City of Bunker Hill Village City Hall (11977 Memorial Drive\, Hous
 ton\, TX 77024\, USA)
SUMMARY:Municipal Court – Afternoon Docket
URL:https://bunkerhilltx.gov/event/1826-municipal-court-afternoon-docket
END:VEVENT
BEGIN:VEVENT
UID:20260420T061456UTC-5997renbvc@https://bunkerhilltx.gov/
DTSTAMP:20260420T061456Z
DESCRIPTION:\nNOTICE OF BIDS - August 2021\n\n\nCity of Bunker Hill Village
 \nConstruction of Water Well No. 5 Site Improvements\nLEI Job No. 200-020\
 , Contract No. 1B\nPlease Note:&nbsp\; Bid Opening Re-schedule for Thursda
 y August 26\, 2021\nThe City of Bunker Hill Village seeks bids for furnish
 ing all labor\, material\, and equipment\, and performing all work require
 d for the following project in the City:\nConstruction of Water Well No. 5
  Site Improvements\nSealed bids\, in duplicate and with an electronic copy
 \, will be received at the Office of the City Secretary\, City of Bunker H
 ill Village City Hall\,until 3:00 p.m.\, August 26\, 2021&nbsp\;August 19\
 , 2021\, and then publicly opened and read via Zoom in the City Council Ch
 ambers. Sealed bids received after the opening date and time will not be c
 onsidered.\nSealed hard copy bids must be mailed or delivered to:\n\nCity 
 of Bunker Hill Village\nNOTE: Construction of Water Well No. 5 Site Improv
 ements\nLEI Job No. 200-020\, Contract No. 1B\nOffice of the City Secretar
 y\n11977 Memorial Drive\nHouston\, Texas&nbsp\;&nbsp\; 77024\n\nA&nbsp\;Ma
 ndatory&nbsp\;Pre-Bid Conference will be held&nbsp\;at 10:00 a.m. on Augus
 t 12th\, 2021&nbsp\;online via Zoom.&nbsp\; No bid will be accepted by the
  OWNER if Bidder fails to attend the pre-bid conference.&nbsp\;\nInstructi
 ons to access Zoom Meetings are shown below.\nWork under this Contract inc
 ludes\, but is not limited to\, the following:&nbsp\; Construction of Well
  Site\, which consists of a Motor Control Center (MCC) Building with Elect
 rical equipment and Foundation\, Well Header\, Yard Piping and Appurtenanc
 es\, Installation of storm sewers for on-site runoff and connection to exi
 sting storm sewer\, Installation of Electrical Conduits\, Concrete Pavemen
 t\, Emergency Generator and Foundation\, Concrete CMU Perimeter Wall with 
 an exterior Brick Façade\, and a Manual Trex Gate.\nBunker Hill will give 
 notice of the contract award within sixty (60) calendar days after the ope
 ning date and time.\nPlans\, Specifications\, and Bidding Documents are on
  file for inspection at&nbsp\;www.civcastusa.com.&nbsp\; There is no cost 
 to view plans\, and printing can be done through the website or in your ow
 n office.&nbsp\; Sets of hard copies of Bidding Documents will not be sold
 .\nPlans\, Specifications\, and Bidding Documents may be examined&nbsp\;af
 ter August 4th&nbsp\;at the following locations:\nLangford Engineering\, I
 nc.&nbsp\;&nbsp\;&nbsp\;&nbsp\;&nbsp\;&nbsp\;&nbsp\;&nbsp\;&nbsp\;&nbsp\;&
 nbsp\;&nbsp\;&nbsp\;&nbsp\;&nbsp\;&nbsp\;&nbsp\;&nbsp\;&nbsp\;&nbsp\;&nbsp
 \;&nbsp\;&nbsp\;&nbsp\;&nbsp\;&nbsp\;&nbsp\;&nbsp\;&nbsp\;&nbsp\;&nbsp\;&n
 bsp\;&nbsp\;&nbsp\;&nbsp\;&nbsp\;&nbsp\;&nbsp\;&nbsp\;&nbsp\;&nbsp\;&nbsp\
 ;&nbsp\;&nbsp\;&nbsp\;&nbsp\;&nbsp\;&nbsp\;&nbsp\;&nbsp\; &nbsp\;&nbsp\;&n
 bsp\;&nbsp\;&nbsp\;&nbsp\;&nbsp\;&nbsp\;&nbsp\;&nbsp\;&nbsp\; City of Bunk
 er Hill Village\n1080 West Sam Houston Parkway North\, Suite 200&nbsp\; &n
 bsp\; &nbsp\; &nbsp\; &nbsp\; &nbsp\; &nbsp\; &nbsp\; &nbsp\; &nbsp\; &nbs
 p\; &nbsp\; 11977 Memorial Drive\nHouston\, Texas 77043-5014&nbsp\;&nbsp\;
 &nbsp\;&nbsp\;&nbsp\;&nbsp\;&nbsp\;&nbsp\;&nbsp\;&nbsp\;&nbsp\;&nbsp\;&nbs
 p\;&nbsp\;&nbsp\;&nbsp\;&nbsp\;&nbsp\;&nbsp\;&nbsp\;&nbsp\;&nbsp\;&nbsp\;&
 nbsp\;&nbsp\;&nbsp\;&nbsp\;&nbsp\;&nbsp\;&nbsp\;&nbsp\;&nbsp\;&nbsp\;&nbsp
 \;&nbsp\;&nbsp\;&nbsp\;&nbsp\;&nbsp\;&nbsp\;&nbsp\;&nbsp\;&nbsp\;&nbsp\;&n
 bsp\;&nbsp\;&nbsp\;&nbsp\;&nbsp\;&nbsp\;&nbsp\;&nbsp\;&nbsp\;&nbsp\;&nbsp\
 ;&nbsp\;&nbsp\;&nbsp\;&nbsp\;&nbsp\; Houston\, Texas 77024\nIn conformance
  with applicable statutes\, the general prevailing wage rates in the local
 ity in which the work is to be performed have been ascertained\, and such 
 rates shall be the minimum paid for labor employed upon this project.&nbsp
 \; In addition\, the successful Contractor must ensure that employees and 
 applicants for employment are not discriminated against because of race\, 
 color\, religion\, sex\, age\, or national origin.&nbsp\; Contractor will 
 be required to submit ethics commission form 1295 prior to award of a cont
 ract by the City of Bunker Hill Village.\nCITY OF BUNKER HILL VILLAGE\nKar
 en H. Glynn\, P.E.\, City Administrator\n&nbsp\;ZOOM Information:\nMandato
 ry Pre-Bid Conference will be held at 10:00 a.m. on August 12th\, 2021&nbs
 p\;\nJoin Zoom Meetinghttps://us06web.zoom.us/j/88066073995?pwd=bVNCZEFNUy
 83K255aVk3NGtaU3R6QT09\nMeeting ID: 880 6607 3995Passcode: 865922\nDial by
  your location+1 346 248 7799 US (Houston)\nBid Opening will be held at &n
 bsp\;3:00 p.m. on&nbsp\; August 26\, 2021&nbsp\;&nbsp\;August 19\, 2021\nJ
 oin Zoom Meetinghttps://us06web.zoom.us/j/85452810892?pwd=Uk9nVWx4Q1h3dWow
 YU02SGM2UWZCUT09\nMeeting ID: 854 5281 0892Passcode: 387376\nDial by your 
 location+1 346 248 7799 US (Houston)\n https://bunkerhilltx.gov/event/1870
 -bid-opening-water-well-no-5-site-improvements
DTSTART:20210826T200000Z
DTEND:20210826T210000Z
LOCATION:BUNKER HILL CITY HALL (11977 Memorial Dr\, Houston\, TX 77024\, US
 A)
SUMMARY:Bid Opening - Water Well No. 5 Site Improvements 
URL:https://bunkerhilltx.gov/event/1870-bid-opening-water-well-no-5-site-im
 provements
END:VEVENT
END:VCALENDAR
