BEGIN:VCALENDAR
VERSION:2.0
PRODID:-//https://bunkerhilltx.gov///NONSGML kigkonsult.se iCalcreator 2.10.15//
METHOD:PUBLISH
BEGIN:VEVENT
UID:20260419T223133UTC-1847TiTVBg@https://bunkerhilltx.gov/
DTSTAMP:20260419T223133Z
DESCRIPTION:Please join us at the Memorial Villages Farmers Market each Sat
 urday. \nThe market is held from 9 am - 1 pm. \nWe look forward to seeing 
 you there!\nPlease click here to go to the Memorial Villages Farmers Marke
 t Website for more details. https://bunkerhilltx.gov/event/1532-villages-f
 armers-market
DTSTART;VALUE=DATE:20210821
LOCATION:First Congregational Church--Houston  (10840 Beinhorn Rd\, Houston
 \, TX 77024\, USA)
SUMMARY:Villages Farmers Market
URL:https://bunkerhilltx.gov/event/1532-villages-farmers-market
END:VEVENT
BEGIN:VEVENT
UID:20260419T223133UTC-1848sVHugl@https://bunkerhilltx.gov/
DTSTAMP:20260419T223133Z
DESCRIPTION:Join Memorial Villages Police Department in celebrating with St
 ormy (MVPD's Support Dog) as she celebrates her birthday!\nBesides her bir
 thday\, MVPD will celebrate having the first week of the new school year-b
 ehind us.\nJoin in the celebration at: Hunters Creek City Hall - Community
  Center Pavilion (Right behind the Farmers Market)\nThere will be Free Sno
 w Cones and Hotdogs!\n&nbsp\;\nPlease plan to bring the family and join us
  for this new community event.&nbsp\; https://bunkerhilltx.gov/event/1871-
 stormy-s-birthday-and-welcome-back-to-school-week
DTSTART:20210821T150000Z
DTEND:20210821T180000Z
LOCATION:Hunter Creek City Hall  (1 Hunters Creek Pl\, Houston\, TX 77024\,
  USA)
SUMMARY:Stormy's Birthday and Welcome Back to School Week!
URL:https://bunkerhilltx.gov/event/1871-stormy-s-birthday-and-welcome-back-
 to-school-week
END:VEVENT
END:VCALENDAR
