BEGIN:VCALENDAR
VERSION:2.0
PRODID:-//https://bunkerhilltx.gov///NONSGML kigkonsult.se iCalcreator 2.10.15//
METHOD:PUBLISH
BEGIN:VEVENT
UID:20260419T161819UTC-6024DnoRI7@https://bunkerhilltx.gov/
DTSTAMP:20260419T161819Z
DESCRIPTION:The City Council holds its regular meetings on the third Tuesda
 y of every month at 5:30 p.m\, unless otherwise noted. The agendas are pos
 ted on the website 72 hours prior to the meetings. Minutes of the meetings
  are also posted on the website after approval by the City Council.\nCity 
 Council Meetings are estimated to be approximately 2 hours\; however\, act
 ual time for a specific item and length of the meeting is based on the ind
 ividual agenda\, public comments\, and discussion time needed.\nNOTICE OF 
 MEETING BY TELEPHONE AND VIDEO CONFERENCE:\nIn accordance with order of th
 e Office of the Governor issued March 16\, 2020 and later extended\, this 
 meeting may be conducted by video conference in order to advance the publi
 c health goal of limiting face-to-face meetings (also called “social dista
 ncing”) to slow the spread of the Coronavirus (COVID-19).&nbsp\;\nCouncil 
 Agenda&nbsp\;\nAgenda Packet:&nbsp\;&nbsp\;\nItems&nbsp\;IV-IX\nItem X - C
 onsent Agenda\nItems A-C Minutes\nItem D June 2021 Financials\nItem E July
  2021 Financials&nbsp\;\nItems F-GG&nbsp\;\n&nbsp\;\nJoin Zoom Meeting\nht
 tps://us06web.zoom.us/j/83467955931?pwd=RzYvc2dyaFF2QmF3TmtBZmVmaFJZQT09 
 \nMeeting ID: 834 6795 5931\nPasscode: 510109\nDial by your location&nbsp\
 ; \n+1 346 248 7799 US (Houston)\nMeeting ID: 834 6795 5931\n&nbsp\;\nThe 
 public will be permitted to offer public comments by video conference as p
 rovided by the agenda and as permitted by the presiding officer during the
  meeting.&nbsp\; A recording of the meeting will be made and will be avail
 able to the public in accordance with the Open Meetings Act upon written r
 equest. https://bunkerhilltx.gov/event/1798-city-council-meeting
DTSTART:20210817T223000Z
DTEND:20210818T003000Z
LOCATION:City of Bunker Hill Village City Hall (11977 Memorial Drive\, Hous
 ton\, TX 77024\, USA)
SUMMARY:City Council Meeting
URL:https://bunkerhilltx.gov/event/1798-city-council-meeting
END:VEVENT
END:VCALENDAR
