BEGIN:VCALENDAR
VERSION:2.0
PRODID:-//https://bunkerhilltx.gov///NONSGML kigkonsult.se iCalcreator 2.10.15//
METHOD:PUBLISH
BEGIN:VEVENT
UID:20260423T091519UTC-0236Fu7GEi@https://bunkerhilltx.gov/
DTSTAMP:20260423T091519Z
DESCRIPTION:In celebration of America’s 250th anniversary\, the six Memoria
 l Villages\, in partnership with the Memorial Villages Police Department a
 nd Village Fire Department\, will host a special Villages Independence Fes
 tival on Saturday\, July 4\, 2026!&nbsp\;\nEvent Schedule\nFun Run &amp\; 
 Bike Ride - 9:45 a.m.&nbsp\;\nBegins at 9:45 a.m. from Memorial Church of 
 Christ.\nParade - 10:00 a.m.\nBegins at 10:00 a.m. from Memorial Church of
  Christ at&nbsp\;Gaylord and Echo Ln.\, continues east on Gaylord to Piney
  Point Rd.\, turns south on Piney Point Rd. and ends at Ecclesia.\nFestiva
 l - 10:45 a.m. - 1:30 p.m.&nbsp\;\nThe outdoor festival begins at 10:45 a.
 m. when the parade arrives at Ecclesia. Enjoy food\, music\, and more!\n&n
 bsp\;\nTo enter a float\, vehicle\, or golf cart in the parade\, please co
 ntact Management Analyst Mallory Pack by email at mpack@bunkerhilltx.gov.&
 nbsp\;\nFor volunteer and sponsorship opportunities\, please contact&nbsp\
 ;Jessica Pierce by email at jessica@cityofhunterscreek.com.&nbsp\;\n https
 ://bunkerhilltx.gov/event/2297-villages-independence-festival
DTSTART:20260704T150000Z
DTEND:20260704T183000Z
LOCATION:Ecclesia Houston - West Side Campus (325 Piney Point Rd\, Houston\
 , TX 77024\, USA)
SUMMARY:Villages Independence Festival 
URL:https://bunkerhilltx.gov/event/2297-villages-independence-festival
END:VEVENT
END:VCALENDAR
