BEGIN:VCALENDAR
VERSION:2.0
PRODID:-//https://bunkerhilltx.gov///NONSGML kigkonsult.se iCalcreator 2.10.15//
METHOD:PUBLISH
BEGIN:VEVENT
UID:20260423T074408UTC-18391awoJx@https://bunkerhilltx.gov/
DTSTAMP:20260423T074408Z
DESCRIPTION:In observance of Independence Day\, City offices will be closed
 &nbsp\;beginning at 12:00 p.m. on Thursday\, July 2\, 2026\, to&nbsp\;Frid
 ay\, July 3\, 2026. Regular business hours resume at 7:00 a.m. on Monday\,
  July 6\, 2026.\nPer City Ordinance\, construction and contract services (
 including lawn maintenance) are prohibited on City observed holidays (i.e.
 \, Independence Day).\nFor Public Works related emergencies outside of reg
 ular business hours\, contact Memorial Villages Police Department Dispatch
  at&nbsp\;713-365-3700. https://bunkerhilltx.gov/event/2255-city-hall-clos
 ed-in-observance-of-independence-day
DTSTART;VALUE=DATE:20260703
LOCATION:City of Bunker Hill Village City Hall (11977 Memorial Drive\, Hous
 ton\, TX 77024\, USA)
SUMMARY:City Hall Closed in Observance of Independence Day
URL:https://bunkerhilltx.gov/event/2255-city-hall-closed-in-observance-of-i
 ndependence-day
END:VEVENT
END:VCALENDAR
