BEGIN:VCALENDAR
VERSION:2.0
PRODID:-//https://bunkerhilltx.gov///NONSGML kigkonsult.se iCalcreator 2.10.15//
METHOD:PUBLISH
BEGIN:VEVENT
UID:20260425T223147UTC-2129u5Twfz@https://bunkerhilltx.gov/
DTSTAMP:20260425T223147Z
DESCRIPTION:THE PLANNING AND ZONING COMMISSION OF THE CITY OF BUNKER HILL V
 ILLAGE\, TEXAS\, WILL MEET ON TUESDAY\, JUNE 22\, 2021 AT 11:30 A.M. BUNKE
 R HILL VILLAGE CITY HALL COUNCIL CHAMBERS\, 11977 MEMORIAL DRIVE\, FOR THE
  PURPOSE OF DISCUSSION AND POSSIBLE ACTION ON THE FOLLOWING:\n&nbsp\;\nNOT
 ICE OF MEETING BY TELEPHONE AND VIDEO CONFERENCE:\nIn accordance with orde
 r of the Office of the Governor issued March 16\, 2020 and later extended\
 , this meeting may be conducted by video conference in order to advance th
 e public health goal of limiting face-to-face meetings (also called “socia
 l distancing”) to slow the spread of the Coronavirus (COVID-19).&nbsp\;&nb
 sp\;\nThe public will be able to observe and participate in the meeting as
  follows:\nJoin Zoom Meeting\nhttps://zoom.us/j/96340345772?pwd=bHhwTXQ2bE
 QxZXpadlRsOUJmY2xxZz09\nMeeting ID: 963 4034 5772\nPasscode: 157702\nDial 
 by your location\n+1 346 248 7799 US (Houston)\nMeeting ID: 963 4034 5772
 \nThe agenda and packet is found below:\nAgenda\nAgenda Packet:\n\nApril 7
 \, 2021 Minutes\nRaydon Final Plat\n\n&nbsp\;&nbsp\; https://bunkerhilltx.
 gov/event/1866-planning-and-zoning-commission-meeting
DTSTART:20210622T163000Z
DTEND:20210622T183000Z
LOCATION:Bunker Hill City Hall  (11977 Memorial Dr\, Houston\, TX 77024\, U
 SA)
SUMMARY:Planning and Zoning Commission Meeting 
URL:https://bunkerhilltx.gov/event/1866-planning-and-zoning-commission-meet
 ing
END:VEVENT
END:VCALENDAR
