BEGIN:VCALENDAR
VERSION:2.0
PRODID:-//https://bunkerhilltx.gov///NONSGML kigkonsult.se iCalcreator 2.10.15//
METHOD:PUBLISH
BEGIN:VEVENT
UID:20260420T111719UTC-547720WkuS@https://bunkerhilltx.gov/
DTSTAMP:20260420T111719Z
DESCRIPTION:The Village Fire Commission typically meets on the fourth Wedne
 sday of each month at 6:00 p.m. at the Village Fire Department. To view th
 e meeting agenda\, and to confirm the meeting date and time\, visit the Vi
 llage Fire Department website at&nbsp\;https://villagefire.org/ https://bu
 nkerhilltx.gov/event/2291-village-fire-commission-meeting
DTSTART:20260325T230000Z
DTEND:20260326T010000Z
LOCATION:Village Fire Department (901 Corbindale Road\, Houston\, TX 77024\
 , USA)
SUMMARY:Village Fire Commission Meeting
URL:https://bunkerhilltx.gov/event/2291-village-fire-commission-meeting
END:VEVENT
END:VCALENDAR
