BEGIN:VCALENDAR
VERSION:2.0
PRODID:-//https://bunkerhilltx.gov///NONSGML kigkonsult.se iCalcreator 2.10.15//
METHOD:PUBLISH
BEGIN:VEVENT
UID:20260423T185747UTC-1005BXCWzK@https://bunkerhilltx.gov/
DTSTAMP:20260423T185747Z
DESCRIPTION:'Smart Cities Virtual Gate Study' \nCrime Prevention Cameras to
  be Studied for the \nMemorial Villages Police Department Jurisdiction\n(C
 ities of Bunker Hill\, Hunters Creek and Piney Point)\nThe Cities of Bunke
 r Hill\, Hunters Creek and Piney Point Villages have&nbsp\;set Tuesday\,&n
 bsp\; February 7\, 2017&nbsp\;as the date for a Public Informational Meeti
 ng&nbsp\;to share&nbsp\;information on a study to determine the opportunit
 y to utilize cameras for crime prevention.\nThe&nbsp\;Public Meeting&nbsp\
 ;will be at the Kinkaid School&nbsp\;from 6:00 pm until 7:00 pm.&nbsp\;\nP
 lease join us!\nClick Here for more information about the study and the me
 eting. https://bunkerhilltx.gov/event/812-public-information-meeting-publi
 c-safety-virtual-gate-study
DTSTART:20170208T000000Z
DTEND:20170208T010000Z
LOCATION:Kinkaid School (201 Kinkaid School Drive\, Houston\, TX 77024)
SUMMARY:Public Information Meeting - Public Safety 'Virtual Gate Study' 
URL:https://bunkerhilltx.gov/event/812-public-information-meeting-public-sa
 fety-virtual-gate-study
END:VEVENT
END:VCALENDAR
